View In:
ArcGIS JavaScript
ArcGIS Online Map Viewer
ArcGIS Earth
ArcMap
View Footprint In:
ArcGIS Online Map Viewer
Service Description: Imagery/img_2019hex15cm
Name: Imagery/img_2019hex15cm
Description:
Single Fused Map Cache: false
Extent:
XMin: -112.1062505
YMin: 40.67125050047342
XMax: -111.79374050078901
YMax: 40.8587605
Spatial Reference: 4326
(4326)
Initial Extent:
XMin: -112.1062505
YMin: 40.67125050047342
XMax: -111.79374050078901
YMax: 40.8587605
Spatial Reference: 4326
(4326)
Full Extent:
XMin: -112.1062505
YMin: 40.67125050047342
XMax: -111.79374050078901
YMax: 40.8587605
Spatial Reference: 4326
(4326)
Pixel Size X: 9.999999974752427E-7
Pixel Size Y: 9.999999974752427E-7
Band Count: 4
Pixel Type: U8
RasterFunction Infos: {"rasterFunctionInfos": [{
"name": "None",
"description": "",
"help": ""
}]}
Mensuration Capabilities: Basic
Has Histograms: true
Has Colormap: false
Has Multi Dimensions : false
Rendering Rule:
Min Scale: 0
Max Scale: 0
Copyright Text:
Service Data Type: esriImageServiceDataTypeGeneric
Min Values: 0, 0, 0, 0
Max Values: 255, 255, 255, 255
Mean Values: 94.675807087315, 91.356834496397, 83.172444287178, 78.388794377026
Standard Deviation Values: 67.658075624767, 64.179324391127, 58.453576990745, 61.366844360639
Object ID Field:
Fields:
None
Default Mosaic Method: Center
Allowed Mosaic Methods:
SortField:
SortValue: null
Mosaic Operator: First
Default Compression Quality: 75
Default Resampling Method: Bilinear
Max Record Count: null
Max Image Height: 4100
Max Image Width: 15000
Max Download Image Count: null
Max Mosaic Image Count: null
Allow Raster Function: true
Allow Copy: null
Allow Analysis: null
Allow Compute TiePoints: false
Supports Statistics: false
Supports Advanced Queries: false
Use StandardizedQueries: true
Raster Type Infos:
Name: Raster Dataset
Description: Supports all ArcGIS Raster Datasets
Help:
Has Raster Attribute Table: false
Edit Fields Info: null
Ownership Based AccessControl For Rasters: null
Child Resources:
Info
Histograms
Key Properties
Legend
Raster Function Infos
Supported Operations:
Export Image
Identify
Measure
Compute Histograms
Compute Statistics Histograms
Get Samples
Compute Class Statistics
Query Boundary
Compute Pixel Location
Validate
Project