{
 "currentVersion": 10.81,
 "serviceDescription": "Imagery/img_2019hex15cm",
 "name": "Imagery/img_2019hex15cm",
 "description": "",
 "extent": {
  "xmin": -112.1062505,
  "ymin": 40.67125050047342,
  "xmax": -111.79374050078901,
  "ymax": 40.8587605,
  "spatialReference": {
   "wkid": 4326,
   "latestWkid": 4326
  }
 },
 "initialExtent": {
  "xmin": -112.1062505,
  "ymin": 40.67125050047342,
  "xmax": -111.79374050078901,
  "ymax": 40.8587605,
  "spatialReference": {
   "wkid": 4326,
   "latestWkid": 4326
  }
 },
 "fullExtent": {
  "xmin": -112.1062505,
  "ymin": 40.67125050047342,
  "xmax": -111.79374050078901,
  "ymax": 40.8587605,
  "spatialReference": {
   "wkid": 4326,
   "latestWkid": 4326
  }
 },
 "pixelSizeX": 9.999999974752427E-7,
 "pixelSizeY": 9.999999974752427E-7,
 "bandCount": 4,
 "pixelType": "U8",
 "minPixelSize": 0,
 "maxPixelSize": 0,
 "copyrightText": "",
 "serviceDataType": "esriImageServiceDataTypeGeneric",
 "minValues": [
  0,
  0,
  0,
  0
 ],
 "maxValues": [
  255,
  255,
  255,
  255
 ],
 "meanValues": [
  94.675807087315,
  91.356834496397,
  83.172444287178,
  78.388794377026
 ],
 "stdvValues": [
  67.658075624767,
  64.179324391127,
  58.453576990745,
  61.366844360639
 ],
 "objectIdField": "",
 "fields": [],
 "capabilities": "Image,Metadata,Mensuration",
 "defaultMosaicMethod": "Center",
 "allowedMosaicMethods": "",
 "sortField": "",
 "sortValue": null,
 "sortAscending": true,
 "mosaicOperator": "First",
 "defaultCompressionQuality": 75,
 "defaultResamplingMethod": "Bilinear",
 "maxImageHeight": 4100,
 "maxImageWidth": 15000,
 "allowRasterFunction": true,
 "rasterFunctionInfos": [
  {
   "name": "None",
   "description": "",
   "help": ""
  }
 ],
 "rasterTypeInfos": [
  {
   "name": "Raster Dataset",
   "description": "Supports all ArcGIS Raster Datasets",
   "help": ""
  }
 ],
 "mensurationCapabilities": "Basic",
 "hasHistograms": true,
 "hasColormap": false,
 "hasRasterAttributeTable": false,
 "minScale": 0,
 "maxScale": 0,
 "exportTilesAllowed": false,
 "hasMultidimensions": false,
 "supportsStatistics": false,
 "supportsAdvancedQueries": false,
 "editFieldsInfo": null,
 "ownershipBasedAccessControlForRasters": null,
 "allowComputeTiePoints": false,
 "useStandardizedQueries": true,
 "advancedQueryCapabilities": {
  "useStandardizedQueries": true,
  "supportsStatistics": false,
  "supportsOrderBy": false,
  "supportsDistinct": false,
  "supportsPagination": false
 },
 "spatialReference": {
  "wkid": 4326,
  "latestWkid": 4326
 }
}
