View In:
ArcGIS JavaScript
ArcGIS Online Map Viewer
ArcGIS Earth
ArcMap
View Footprint In:
ArcGIS Online Map Viewer
Service Description: Imagery/img_2009hro
Name: Imagery/img_2009hro
Description:
Single Fused Map Cache: false
Extent:
XMin: 1458051.5448958334
YMin: 7409654.722395821
XMax: 1574313.6155208424
YMax: 7488956.565104167
Spatial Reference: 102743
(3566)
Initial Extent:
XMin: 1458051.5448958334
YMin: 7409654.722395821
XMax: 1574313.6155208424
YMax: 7488956.565104167
Spatial Reference: 102743
(3566)
Full Extent:
XMin: 1458051.5448958334
YMin: 7409654.722395821
XMax: 1574313.6155208424
YMax: 7488956.565104167
Spatial Reference: 102743
(3566)
Pixel Size X: 0.8202083333333969
Pixel Size Y: 0.8202083333334689
Band Count: 3
Pixel Type: U8
RasterFunction Infos: {"rasterFunctionInfos": [{
"name": "None",
"description": "",
"help": ""
}]}
Mensuration Capabilities: Basic
Has Histograms: true
Has Colormap: false
Has Multi Dimensions : false
Rendering Rule:
Min Scale: 0
Max Scale: 0
Copyright Text:
Service Data Type: esriImageServiceDataTypeRGB
Min Values: 1, 1, 1
Max Values: 255, 255, 255
Mean Values: 119.74730090824, 121.79843571498, 104.55842472889
Standard Deviation Values: 48.400930637836, 47.033521242531, 48.935267340663
Object ID Field:
Fields:
None
Default Mosaic Method: Center
Allowed Mosaic Methods:
SortField:
SortValue: null
Mosaic Operator: First
Default Compression Quality: 75
Default Resampling Method: Bilinear
Max Record Count: null
Max Image Height: 4100
Max Image Width: 15000
Max Download Image Count: null
Max Mosaic Image Count: null
Allow Raster Function: true
Allow Copy: null
Allow Analysis: null
Allow Compute TiePoints: false
Supports Statistics: false
Supports Advanced Queries: false
Use StandardizedQueries: true
Raster Type Infos:
Name: Raster Dataset
Description: Supports all ArcGIS Raster Datasets
Help:
Has Raster Attribute Table: false
Edit Fields Info: null
Ownership Based AccessControl For Rasters: null
Child Resources:
Info
Histograms
Key Properties
Legend
Raster Function Infos
Supported Operations:
Export Image
Identify
Measure
Compute Histograms
Compute Statistics Histograms
Get Samples
Compute Class Statistics
Query Boundary
Compute Pixel Location
Validate
Project