{
 "currentVersion": 10.81,
 "serviceDescription": "Imagery/img_2009hro",
 "name": "Imagery/img_2009hro",
 "description": "",
 "extent": {
  "xmin": 1458051.5448958334,
  "ymin": 7409654.722395821,
  "xmax": 1574313.6155208424,
  "ymax": 7488956.565104167,
  "spatialReference": {
   "wkid": 102743,
   "latestWkid": 3566
  }
 },
 "initialExtent": {
  "xmin": 1458051.5448958334,
  "ymin": 7409654.722395821,
  "xmax": 1574313.6155208424,
  "ymax": 7488956.565104167,
  "spatialReference": {
   "wkid": 102743,
   "latestWkid": 3566
  }
 },
 "fullExtent": {
  "xmin": 1458051.5448958334,
  "ymin": 7409654.722395821,
  "xmax": 1574313.6155208424,
  "ymax": 7488956.565104167,
  "spatialReference": {
   "wkid": 102743,
   "latestWkid": 3566
  }
 },
 "pixelSizeX": 0.8202083333333969,
 "pixelSizeY": 0.8202083333334689,
 "bandCount": 3,
 "pixelType": "U8",
 "minPixelSize": 0,
 "maxPixelSize": 0,
 "copyrightText": "",
 "serviceDataType": "esriImageServiceDataTypeRGB",
 "minValues": [
  1,
  1,
  1
 ],
 "maxValues": [
  255,
  255,
  255
 ],
 "meanValues": [
  119.74730090824,
  121.79843571498,
  104.55842472889
 ],
 "stdvValues": [
  48.400930637836,
  47.033521242531,
  48.935267340663
 ],
 "objectIdField": "",
 "fields": [],
 "capabilities": "Image,Metadata,Mensuration",
 "defaultMosaicMethod": "Center",
 "allowedMosaicMethods": "",
 "sortField": "",
 "sortValue": null,
 "sortAscending": true,
 "mosaicOperator": "First",
 "defaultCompressionQuality": 75,
 "defaultResamplingMethod": "Bilinear",
 "maxImageHeight": 4100,
 "maxImageWidth": 15000,
 "allowRasterFunction": true,
 "rasterFunctionInfos": [
  {
   "name": "None",
   "description": "",
   "help": ""
  }
 ],
 "rasterTypeInfos": [
  {
   "name": "Raster Dataset",
   "description": "Supports all ArcGIS Raster Datasets",
   "help": ""
  }
 ],
 "mensurationCapabilities": "Basic",
 "hasHistograms": true,
 "hasColormap": false,
 "hasRasterAttributeTable": false,
 "minScale": 0,
 "maxScale": 0,
 "exportTilesAllowed": false,
 "hasMultidimensions": false,
 "supportsStatistics": false,
 "supportsAdvancedQueries": false,
 "editFieldsInfo": null,
 "ownershipBasedAccessControlForRasters": null,
 "allowComputeTiePoints": false,
 "useStandardizedQueries": true,
 "advancedQueryCapabilities": {
  "useStandardizedQueries": true,
  "supportsStatistics": false,
  "supportsOrderBy": false,
  "supportsDistinct": false,
  "supportsPagination": false
 },
 "spatialReference": {
  "wkid": 102743,
  "latestWkid": 3566
 }
}
