View In:
ArcGIS JavaScript
ArcGIS Online Map Viewer
ArcGIS Earth
ArcMap
View Footprint In:
ArcGIS Online Map Viewer
Service Description: Imagery/img_2006hro6in
Name: Imagery/img_2006hro6in
Description:
Single Fused Map Cache: false
Extent:
XMin: 1465971.748681192
YMin: 7417575.43925056
XMax: 1563752.3545633887
YMax: 7481036.361315065
Spatial Reference: 102743
(3566)
Initial Extent:
XMin: 1465971.748681192
YMin: 7417575.43925056
XMax: 1563752.3545633887
YMax: 7481036.361315065
Spatial Reference: 102743
(3566)
Full Extent:
XMin: 1465971.748681192
YMin: 7417575.43925056
XMax: 1563752.3545633887
YMax: 7481036.361315065
Spatial Reference: 102743
(3566)
Pixel Size X: 0.4126251450897013
Pixel Size Y: 0.41262514508969894
Band Count: 3
Pixel Type: U8
RasterFunction Infos: {"rasterFunctionInfos": [{
"name": "None",
"description": "",
"help": ""
}]}
Mensuration Capabilities: Basic
Has Histograms: true
Has Colormap: false
Has Multi Dimensions : false
Rendering Rule:
Min Scale: 0
Max Scale: 0
Copyright Text:
Service Data Type: esriImageServiceDataTypeRGB
Min Values: 1, 1, 1
Max Values: 255, 255, 255
Mean Values: 113.3381966744, 114.35894492635, 102.34208491623
Standard Deviation Values: 47.715265700878, 41.038416479661, 36.958054126841
Object ID Field:
Fields:
None
Default Mosaic Method: Center
Allowed Mosaic Methods:
SortField:
SortValue: null
Mosaic Operator: First
Default Compression Quality: 75
Default Resampling Method: Bilinear
Max Record Count: null
Max Image Height: 4100
Max Image Width: 15000
Max Download Image Count: null
Max Mosaic Image Count: null
Allow Raster Function: true
Allow Copy: null
Allow Analysis: null
Allow Compute TiePoints: false
Supports Statistics: false
Supports Advanced Queries: false
Use StandardizedQueries: true
Raster Type Infos:
Name: Raster Dataset
Description: Supports all ArcGIS Raster Datasets
Help:
Has Raster Attribute Table: false
Edit Fields Info: null
Ownership Based AccessControl For Rasters: null
Child Resources:
Info
Histograms
Key Properties
Legend
Raster Function Infos
Supported Operations:
Export Image
Identify
Measure
Compute Histograms
Compute Statistics Histograms
Get Samples
Compute Class Statistics
Query Boundary
Compute Pixel Location
Validate
Project