{
 "currentVersion": 10.81,
 "serviceDescription": "Imagery/img_2006hro6in",
 "name": "Imagery/img_2006hro6in",
 "description": "",
 "extent": {
  "xmin": 1465971.748681192,
  "ymin": 7417575.43925056,
  "xmax": 1563752.3545633887,
  "ymax": 7481036.361315065,
  "spatialReference": {
   "wkid": 102743,
   "latestWkid": 3566
  }
 },
 "initialExtent": {
  "xmin": 1465971.748681192,
  "ymin": 7417575.43925056,
  "xmax": 1563752.3545633887,
  "ymax": 7481036.361315065,
  "spatialReference": {
   "wkid": 102743,
   "latestWkid": 3566
  }
 },
 "fullExtent": {
  "xmin": 1465971.748681192,
  "ymin": 7417575.43925056,
  "xmax": 1563752.3545633887,
  "ymax": 7481036.361315065,
  "spatialReference": {
   "wkid": 102743,
   "latestWkid": 3566
  }
 },
 "pixelSizeX": 0.4126251450897013,
 "pixelSizeY": 0.41262514508969894,
 "bandCount": 3,
 "pixelType": "U8",
 "minPixelSize": 0,
 "maxPixelSize": 0,
 "copyrightText": "",
 "serviceDataType": "esriImageServiceDataTypeRGB",
 "minValues": [
  1,
  1,
  1
 ],
 "maxValues": [
  255,
  255,
  255
 ],
 "meanValues": [
  113.3381966744,
  114.35894492635,
  102.34208491623
 ],
 "stdvValues": [
  47.715265700878,
  41.038416479661,
  36.958054126841
 ],
 "objectIdField": "",
 "fields": [],
 "capabilities": "Image,Metadata,Mensuration",
 "defaultMosaicMethod": "Center",
 "allowedMosaicMethods": "",
 "sortField": "",
 "sortValue": null,
 "sortAscending": true,
 "mosaicOperator": "First",
 "defaultCompressionQuality": 75,
 "defaultResamplingMethod": "Bilinear",
 "maxImageHeight": 4100,
 "maxImageWidth": 15000,
 "allowRasterFunction": true,
 "rasterFunctionInfos": [
  {
   "name": "None",
   "description": "",
   "help": ""
  }
 ],
 "rasterTypeInfos": [
  {
   "name": "Raster Dataset",
   "description": "Supports all ArcGIS Raster Datasets",
   "help": ""
  }
 ],
 "mensurationCapabilities": "Basic",
 "hasHistograms": true,
 "hasColormap": false,
 "hasRasterAttributeTable": false,
 "minScale": 0,
 "maxScale": 0,
 "exportTilesAllowed": false,
 "hasMultidimensions": false,
 "supportsStatistics": false,
 "supportsAdvancedQueries": false,
 "editFieldsInfo": null,
 "ownershipBasedAccessControlForRasters": null,
 "allowComputeTiePoints": false,
 "useStandardizedQueries": true,
 "advancedQueryCapabilities": {
  "useStandardizedQueries": true,
  "supportsStatistics": false,
  "supportsOrderBy": false,
  "supportsDistinct": false,
  "supportsPagination": false
 },
 "spatialReference": {
  "wkid": 102743,
  "latestWkid": 3566
 }
}
