View In:
ArcGIS JavaScript
ArcGIS Online Map Viewer
ArcGIS Earth
ArcMap
View Footprint In:
ArcGIS Online Map Viewer
Service Description: Imagery/img_slc2003uao
Name: Imagery/img_slc2003uao
Description:
Single Fused Map Cache: false
Extent:
XMin: 1468611.462875
YMin: 7409655.141625
XMax: 1574313.023125
YMax: 7483676.647125
Spatial Reference: 102743
(3566)
Initial Extent:
XMin: 1468611.462875
YMin: 7409655.141625
XMax: 1574313.023125
YMax: 7483676.647125
Spatial Reference: 102743
(3566)
Full Extent:
XMin: 1468611.462875
YMin: 7409655.141625
XMax: 1574313.023125
YMax: 7483676.647125
Spatial Reference: 102743
(3566)
Pixel Size X: 0.9842500000000008
Pixel Size Y: 0.9842499999999996
Band Count: 3
Pixel Type: U8
RasterFunction Infos: {"rasterFunctionInfos": [{
"name": "None",
"description": "",
"help": ""
}]}
Mensuration Capabilities: Basic
Has Histograms: true
Has Colormap: false
Has Multi Dimensions : false
Rendering Rule:
Min Scale: 0
Max Scale: 0
Copyright Text:
Service Data Type: esriImageServiceDataTypeRGB
Min Values: 1, 1, 1
Max Values: 255, 255, 255
Mean Values: 111.69532038342, 117.54490431753, 94.409624009157
Standard Deviation Values: 51.979090739257, 44.739030462993, 36.701538688665
Object ID Field:
Fields:
None
Default Mosaic Method: Center
Allowed Mosaic Methods:
SortField:
SortValue: null
Mosaic Operator: First
Default Compression Quality: 75
Default Resampling Method: Bilinear
Max Record Count: null
Max Image Height: 4100
Max Image Width: 15000
Max Download Image Count: null
Max Mosaic Image Count: null
Allow Raster Function: true
Allow Copy: null
Allow Analysis: null
Allow Compute TiePoints: false
Supports Statistics: false
Supports Advanced Queries: false
Use StandardizedQueries: true
Raster Type Infos:
Name: Raster Dataset
Description: Supports all ArcGIS Raster Datasets
Help:
Has Raster Attribute Table: false
Edit Fields Info: null
Ownership Based AccessControl For Rasters: null
Child Resources:
Info
Histograms
Key Properties
Legend
Raster Function Infos
Supported Operations:
Export Image
Identify
Measure
Compute Histograms
Compute Statistics Histograms
Get Samples
Compute Class Statistics
Query Boundary
Compute Pixel Location
Validate
Project