{
 "currentVersion": 10.81,
 "serviceDescription": "Imagery/img_1999uao",
 "name": "Imagery/img_1999uao",
 "description": "",
 "extent": {
  "xmin": 1473891.705,
  "ymin": 7422855.905,
  "xmax": 1558472.205,
  "ymax": 7478396.405,
  "spatialReference": {
   "wkid": 102743,
   "latestWkid": 3566
  }
 },
 "initialExtent": {
  "xmin": 1473891.705,
  "ymin": 7422855.905,
  "xmax": 1558472.205,
  "ymax": 7478396.405,
  "spatialReference": {
   "wkid": 102743,
   "latestWkid": 3566
  }
 },
 "fullExtent": {
  "xmin": 1473891.705,
  "ymin": 7422855.905,
  "xmax": 1558472.205,
  "ymax": 7478396.405,
  "spatialReference": {
   "wkid": 102743,
   "latestWkid": 3566
  }
 },
 "pixelSizeX": 0.5,
 "pixelSizeY": 0.5,
 "bandCount": 1,
 "pixelType": "U8",
 "minPixelSize": 0,
 "maxPixelSize": 0,
 "copyrightText": "",
 "serviceDataType": "esriImageServiceDataTypeGeneric",
 "minValues": [
  1
 ],
 "maxValues": [
  255
 ],
 "meanValues": [
  124.81404631526
 ],
 "stdvValues": [
  34.769566632022
 ],
 "objectIdField": "",
 "fields": [],
 "capabilities": "Image,Metadata,Mensuration",
 "defaultMosaicMethod": "Center",
 "allowedMosaicMethods": "",
 "sortField": "",
 "sortValue": null,
 "sortAscending": true,
 "mosaicOperator": "First",
 "defaultCompressionQuality": 75,
 "defaultResamplingMethod": "Bilinear",
 "maxImageHeight": 4100,
 "maxImageWidth": 15000,
 "allowRasterFunction": true,
 "rasterFunctionInfos": [
  {
   "name": "None",
   "description": "",
   "help": ""
  }
 ],
 "rasterTypeInfos": [
  {
   "name": "Raster Dataset",
   "description": "Supports all ArcGIS Raster Datasets",
   "help": ""
  }
 ],
 "mensurationCapabilities": "Basic",
 "hasHistograms": true,
 "hasColormap": false,
 "hasRasterAttributeTable": true,
 "minScale": 0,
 "maxScale": 0,
 "exportTilesAllowed": false,
 "hasMultidimensions": false,
 "supportsStatistics": false,
 "supportsAdvancedQueries": false,
 "editFieldsInfo": null,
 "ownershipBasedAccessControlForRasters": null,
 "allowComputeTiePoints": false,
 "useStandardizedQueries": true,
 "advancedQueryCapabilities": {
  "useStandardizedQueries": true,
  "supportsStatistics": false,
  "supportsOrderBy": false,
  "supportsDistinct": false,
  "supportsPagination": false
 },
 "spatialReference": {
  "wkid": 102743,
  "latestWkid": 3566
 }
}
